{"text_format":"1","workbook":"xlsx","n_sheets":3,"sheets":["入力シート","data","wrk"],"not_rendered":{"charts":0,"images":0,"macros":1,"external_links":0,"defined_names":0,"comments":0,"pivot_tables":0},"unopened":[],"bounds":{"document_bytes":16777216,"sheet_cells":100000,"rows_first":2000,"rows_last":500,"rows_between":2000,"halvings":0,"cell_chars":16384,"cell_head_chars":4096},"cells_cut":0,"cells_raw":0,"read":"whole","date_system":"1900"}

{"sheet":"入力シート","index":0,"n_rows":75,"n_cols":18,"rows_kept":75,"cut":false,"hidden":false,"merged":[[64,4,64,14],[65,4,65,14],[66,4,66,14],[63,4,63,14],[27,7,27,9],[28,7,28,9],[27,11,27,13],[61,4,61,14],[62,4,62,14],[43,2,43,16],[30,3,30,14],[67,4,67,14],[68,4,68,14],[74,4,74,14],[69,4,69,14],[70,4,70,14],[71,4,71,14],[72,4,72,14],[73,4,73,14],[7,3,7,16],[14,3,14,4],[15,3,15,4],[16,3,16,4],[8,3,8,7],[9,3,9,7],[10,3,10,7],[9,10,9,15],[18,3,18,16],[17,3,17,4],[10,10,10,15],[60,4,60,14],[19,3,19,15],[59,4,59,14],[41,2,41,16],[45,2,45,16],[35,2,35,16],[37,2,37,16],[28,11,28,13],[55,4,55,14],[56,4,56,14],[57,4,57,14],[58,4,58,14],[39,2,39,16],[24,3,24,5],[27,3,27,5],[28,3,28,5],[24,7,24,9],[24,11,24,13],[25,7,25,9],[25,11,25,13],[26,7,26,9],[26,11,26,13],[25,3,25,5],[26,3,26,5]]}
["保健事業事例入力シート"]
[]
[null,null,null,null,"桃色の項目は必須入力です。"]
[null,null,null,null,"黄色の項目は任意入力です。"]
[]
["１．基本情報"]
[]
[null,1,"保健事業名"]
[null,2,"都道府県"]
[null,3,"市区町村",null,null,null,null,null,null,"よみがな"]
[null,4,"実施主体","後期高齢者医療広域連合",null,null,null,null,null,"実施主体名",null,null,null,null,null,null,{"$f":"IF(OR(D11=\"国民健康保険組合\",D11=\"その他\"),\"\",\"実施主体名の入力は不要です。\")","v":"実施主体名の入力は不要です。"}]
[]
["２．保険者等概要"]
[]
[null,1,"人口",null,null,"人"]
[null,2,"高齢化率",null,null,"％"]
[null,3,"国保被保険者数",null,null,"人"]
[null,4,"後期高齢者医療制度\n被保険者数",null,null,"人"]
[null,5,"まち･保険者等の特徴\n（都道府県、市区町村\n以外は、保険者の特徴\nを記入）\n※事例内容の各欄は、1000文字以内で入力願います。"]
[null,6,"概要の備考",null,null,null,null,null,null,null,null,null,null,null,null,null,{"$f":"IF(OR(D11=\"都道府県\",D11=\"市区町村\",D11=\"国民健康保険組合\",D11=\"後期高齢者医療広域連合\",D11=\"国民健康保険団体連合会\"),\"概要の備考の入力は不要です。\",\"\")","v":"概要の備考の入力は不要です。"}]
[]
["３．特定健診・特定保健指導実施率"]
[]
[null,1,null,"実施年度",null,null,null,"特定健診実施率",null,null,null,"特定保健指導実施率",null,null,null,null,null,{"$f":"IF(D11=\"後期高齢者医療広域連合\",\"実施主体が「後期高齢者医療広域連合」の\",\"\")","v":"実施主体が「後期高齢者医療広域連合」の"}]
[null,null,null,null,null,null,"年度",null,null,null,"%",null,null,null,"%",null,null,{"$f":"IF(D11=\"後期高齢者医療広域連合\",\"場合は入力の必要はありません。\",\"\")","v":"場合は入力の必要はありません。"}]
[null,null,null,null,null,null,"年度",null,null,null,"%",null,null,null,"%"]
[null,null,null,null,null,null,"年度",null,null,null,"%",null,null,null,"%"]
[null,null,null,null,null,null,"年度",null,null,null,"%",null,null,null,"%"]
[null,null,null,null,null,null,"年度",null,null,null,"%",null,null,null,"%"]
[]
[null,2,"数値の備考",null,null,null,null,null,null,null,null,null,null,null,null,null,{"$f":"IF(OR(D11=\"都道府県\",D11=\"市区町村\",D11=\"国民健康保険組合\",D11=\"後期高齢者医療広域連合\",D11=\"国民健康保険団体連合会\"),\"数値の備考の入力は不要です。\",\"\")","v":"数値の備考の入力は不要です。"}]
[]
["４．事業について"]
[null,null,"※事例内容の各欄は、1000文字以内で入力願います。"]
[null,1,"事業内容"]
[]
[null,2,"事業に取り組む契機と取組を行う際にまず始めたこと"]
[]
[null,3,"効果的であった取組"]
[]
[null,4,"取組の中での課題とその解決策"]
[]
[null,5,"成果と今後の取組の方向性"]
[]
[null,6,"事業に取り組んだ感想"]
[]
[]
["５．添付資料"]
[null,null,"事業内容を説明する上で、参考となる情報などをファイルで掲載します。"]
[null,null,"例）事業要綱、事業成果のまとめ、アンケート票、計算ツール等の参考資料など"]
[null,null,"（ファイル形式は、ＰＤＦ、Excel、PowerPoint等）"]
[null,null,"参考資料を添付する場合は、以下に各ファイル名を必ず入力してください。"]
[null,null,"添付ファイルの記名ルール（都道府県番号2桁＋西暦下2桁＋月2桁＋日2桁＋事業名称＋_枝番号2桁）"]
[null,null,"例）秋田県2020年2月14日（中央会提出日）特定健診未受診者訪問事業 ⇒「05200214特定健診未受診者訪問事業_01」"]
[]
[null,null,null,"添付ファイル名1"]
[null,null,null,"添付ファイル名2"]
[null,null,null,"添付ファイル名3"]
[null,null,null,"添付ファイル名4"]
[null,null,null,"添付ファイル名5"]
[null,null,null,"添付ファイル名6"]
[null,null,null,"添付ファイル名7"]
[null,null,null,"添付ファイル名8"]
[null,null,null,"添付ファイル名9"]
[null,null,null,"添付ファイル名10"]
[null,null,null,"添付ファイル名11"]
[null,null,null,"添付ファイル名12"]
[null,null,null,"添付ファイル名13"]
[null,null,null,"添付ファイル名14"]
[null,null,null,"添付ファイル名15"]
[null,null,null,"添付ファイル名16"]
[null,null,null,"添付ファイル名17"]
[null,null,null,"添付ファイル名18"]
[null,null,null,"添付ファイル名19"]
[null,null,null,"添付ファイル名20"]

{"sheet":"data","index":1,"n_rows":54,"n_cols":2,"rows_kept":54,"cut":false,"hidden":true,"merged":[]}
["事例名称",{"$f":"入力シート!D8 & \"\"","v":""}]
["都道府県",{"$f":"入力シート!D9 & \"\"","v":""}]
["市区町村",{"$f":"入力シート!D10 & \"\"","v":""}]
["市区町村よみがな",{"$f":"入力シート!K10 & \"\"","v":""}]
["実施主体",{"$f":"入力シート!D11 & \"\"","v":"後期高齢者医療広域連合"}]
["人口",{"$f":"入力シート!D15 & \"\"","v":""}]
["高齢化率",{"$f":"入力シート!D16 & \"\"","v":""}]
["国保被保険者数",{"$f":"入力シート!D17 & \"\"","v":""}]
["まちの特徴",{"$f":"入力シート!D19 & \"\"","v":""}]
["概要の備考",{"$f":"入力シート!D20 & \"\"","v":""}]
["実施年度1",{"$f":"入力シート!D25 & \"\"","v":""}]
["特定健診実施率1",{"$f":"入力シート!H25 & \"\"","v":""}]
["特定保健指導実施率1",{"$f":"入力シート!L25 & \"\"","v":""}]
["実施年度2",{"$f":"入力シート!D26 & \"\"","v":""}]
["特定健診実施率2",{"$f":"入力シート!H26 & \"\"","v":""}]
["特定保健指導実施率2",{"$f":"入力シート!L26 & \"\"","v":""}]
["実施年度3",{"$f":"入力シート!D27 & \"\"","v":""}]
["特定健診実施率3",{"$f":"入力シート!H27 & \"\"","v":""}]
["特定保健指導実施率3",{"$f":"入力シート!L27 & \"\"","v":""}]
["実施年度4",{"$f":"入力シート!D28 & \"\"","v":""}]
["特定健診実施率4",{"$f":"入力シート!H28 & \"\"","v":""}]
["特定保健指導実施率4",{"$f":"入力シート!L28 & \"\"","v":""}]
["実施年度5",{"$f":"入力シート!D29 & \"\"","v":""}]
["特定健診実施率5",{"$f":"入力シート!H29 & \"\"","v":""}]
["特定保健指導実施率5",{"$f":"入力シート!L29 & \"\"","v":""}]
["数値の備考",{"$f":"入力シート!D31 & \"\"","v":""}]
["事業内容",{"$f":"入力シート!C36 & \"\"","v":""}]
["契機",{"$f":"入力シート!C38 & \"\"","v":""}]
["効果的取組",{"$f":"入力シート!C40 & \"\"","v":""}]
["取組中の課題と解決策",{"$f":"入力シート!C42 & \"\"","v":""}]
["成果と方向性",{"$f":"入力シート!C44 & \"\"","v":""}]
["感想",{"$f":"入力シート!C46 & \"\"","v":""}]
["後期高齢者医療制度被保険者数",{"$f":"入力シート!D18 & \"\"","v":""}]
["実施主体名",{"$f":"入力シート!K11 & \"\"","v":""}]
["添付ファイル名1",{"$f":"入力シート!E56 & \"\"","v":""}]
["添付ファイル名2",{"$f":"入力シート!E57 & \"\"","v":""}]
["添付ファイル名3",{"$f":"入力シート!E58 & \"\"","v":""}]
["添付ファイル名4",{"$f":"入力シート!E59 & \"\"","v":""}]
["添付ファイル名5",{"$f":"入力シート!E60 & \"\"","v":""}]
["添付ファイル名6",{"$f":"入力シート!E61 & \"\"","v":""}]
["添付ファイル名7",{"$f":"入力シート!E62 & \"\"","v":""}]
["添付ファイル名8",{"$f":"入力シート!E63 & \"\"","v":""}]
["添付ファイル名9",{"$f":"入力シート!E64 & \"\"","v":""}]
["添付ファイル名10",{"$f":"入力シート!E65 & \"\"","v":""}]
["添付ファイル名11",{"$f":"入力シート!E66 & \"\"","v":""}]
["添付ファイル名12",{"$f":"入力シート!E67 & \"\"","v":""}]
["添付ファイル名13",{"$f":"入力シート!E68 & \"\"","v":""}]
["添付ファイル名14",{"$f":"入力シート!E69 & \"\"","v":""}]
["添付ファイル名15",{"$f":"入力シート!E70 & \"\"","v":""}]
["添付ファイル名16",{"$f":"入力シート!E71 & \"\"","v":""}]
["添付ファイル名17",{"$f":"入力シート!E72 & \"\"","v":""}]
["添付ファイル名18",{"$f":"入力シート!E73 & \"\"","v":""}]
["添付ファイル名19",{"$f":"入力シート!E74 & \"\"","v":""}]
["添付ファイル名20",{"$f":"入力シート!E75 & \"\"","v":""}]

{"sheet":"wrk","index":2,"n_rows":47,"n_cols":2,"rows_kept":47,"cut":false,"hidden":true,"merged":[]}
["北海道"]
["青森県"]
["岩手県"]
["宮城県"]
["秋田県"]
["山形県"]
["福島県"]
["茨城県"]
["栃木県"]
["群馬県"]
["埼玉県"]
["千葉県"]
["東京都"]
["神奈川県"]
["新潟県"]
["富山県"]
["石川県","都道府県"]
["福井県","市区町村"]
["山梨県","国民健康保険組合"]
["長野県","後期高齢者医療広域連合"]
["岐阜県","国民健康保険団体連合会"]
["静岡県","その他"]
["愛知県"]
["三重県"]
["滋賀県"]
["京都府"]
["大阪府"]
["兵庫県"]
["奈良県"]
["和歌山県"]
["鳥取県"]
["島根県"]
["岡山県"]
["広島県"]
["山口県"]
["徳島県"]
["香川県"]
["愛媛県"]
["高知県"]
["福岡県"]
["佐賀県"]
["長崎県"]
["熊本県"]
["大分県"]
["宮崎県"]
["鹿児島県"]
["沖縄県"]